Package: coseq Version: 1.35.0 Command: /Library/Frameworks/R.framework/Resources/bin/R CMD build --keep-empty-dirs --no-resave-data coseq StartedAt: 2025-11-13 16:02:44 -0500 (Thu, 13 Nov 2025) EndedAt: 2025-11-13 16:04:28 -0500 (Thu, 13 Nov 2025) EllapsedTime: 104.2 seconds RetCode: 0 Status: OK PackageFile: coseq_1.35.0.tar.gz PackageFileSize: 1.878 MiB