Package: coseq Version: 1.35.0 Maintainer: Andrea Rau MaintainerEmail: andrea.rau at inrae.fr git_url: https://git.bioconductor.org/packages/coseq git_branch: devel git_last_commit: 9d19790 git_last_commit_date: 2025-10-29 10:36:16 -0500 (Wed, 29 Oct 2025)