Package: conumee Version: 1.45.0 Command: /Library/Frameworks/R.framework/Resources/bin/R CMD INSTALL conumee StartedAt: 2025-11-23 15:24:06 -0500 (Sun, 23 Nov 2025) EndedAt: 2025-11-23 15:25:48 -0500 (Sun, 23 Nov 2025) EllapsedTime: 101.6 seconds RetCode: 0 Status: OK