Package: conumee Version: 1.45.0 Command: /Library/Frameworks/R.framework/Resources/bin/R CMD build --keep-empty-dirs --no-resave-data conumee StartedAt: 2025-11-21 15:58:58 -0500 (Fri, 21 Nov 2025) EndedAt: 2025-11-21 16:02:08 -0500 (Fri, 21 Nov 2025) EllapsedTime: 190.1 seconds RetCode: 0 Status: OK PackageFile: conumee_1.45.0.tar.gz PackageFileSize: 1.783 MiB