Package: conumee Version: 1.45.0 Command: rm -rf conumee.buildbin-libdir && mkdir conumee.buildbin-libdir && /Users/biocbuild/BBS/utils/build-universal.sh conumee_1.45.0.tar.gz /Library/Frameworks/R.framework/Resources/bin/R conumee.buildbin-libdir StartedAt: 2025-11-21 23:27:37 -0500 (Fri, 21 Nov 2025) EndedAt: 2025-11-21 23:29:37 -0500 (Fri, 21 Nov 2025) EllapsedTime: 119.6 seconds RetCode: 0 Status: OK PackageFile: conumee_1.45.0.tgz PackageFileSize: 2.128 MiB