Package: consensusSeekeR Version: 1.39.0 Command: /home/biocbuild/bbs-3.23-bioc/R/bin/R CMD INSTALL consensusSeekeR StartedAt: 2025-11-23 15:28:39 -0500 (Sun, 23 Nov 2025) EndedAt: 2025-11-23 15:29:08 -0500 (Sun, 23 Nov 2025) EllapsedTime: 29.3 seconds RetCode: 0 Status: OK