Package: consensusSeekeR Version: 1.39.0 Command: /home/biocbuild/bbs-3.23-bioc/R/bin/R CMD build --keep-empty-dirs --no-resave-data consensusSeekeR StartedAt: 2025-11-23 16:58:50 -0500 (Sun, 23 Nov 2025) EndedAt: 2025-11-23 17:00:35 -0500 (Sun, 23 Nov 2025) EllapsedTime: 105.1 seconds RetCode: 0 Status: OK PackageFile: consensusSeekeR_1.39.0.tar.gz PackageFileSize: 738.8 KiB