Package: consensusSeekeR Version: 1.39.0 Command: /Library/Frameworks/R.framework/Resources/bin/R CMD INSTALL consensusSeekeR StartedAt: 2025-11-14 15:17:17 -0500 (Fri, 14 Nov 2025) EndedAt: 2025-11-14 15:17:30 -0500 (Fri, 14 Nov 2025) EllapsedTime: 12.3 seconds RetCode: 0 Status: OK