Package: consensusSeekeR Version: 1.39.0 Command: /Library/Frameworks/R.framework/Resources/bin/R CMD build --keep-empty-dirs --no-resave-data consensusSeekeR StartedAt: 2025-11-13 16:01:54 -0500 (Thu, 13 Nov 2025) EndedAt: 2025-11-13 16:02:14 -0500 (Thu, 13 Nov 2025) EllapsedTime: 20.2 seconds RetCode: 0 Status: OK PackageFile: consensusSeekeR_1.39.0.tar.gz PackageFileSize: 739.3 KiB