Package: consensusSeekeR Version: 1.39.0 Command: rm -rf consensusSeekeR.buildbin-libdir && mkdir consensusSeekeR.buildbin-libdir && /Users/biocbuild/BBS/utils/build-universal.sh consensusSeekeR_1.39.0.tar.gz /Library/Frameworks/R.framework/Resources/bin/R consensusSeekeR.buildbin-libdir StartedAt: 2025-11-13 23:32:58 -0500 (Thu, 13 Nov 2025) EndedAt: 2025-11-13 23:33:13 -0500 (Thu, 13 Nov 2025) EllapsedTime: 15.3 seconds RetCode: 0 Status: OK PackageFile: consensusSeekeR_1.39.0.tgz PackageFileSize: 616.4 KiB