Package: consensus Version: 1.29.0 Command: /Library/Frameworks/R.framework/Resources/bin/R CMD INSTALL consensus StartedAt: 2025-11-14 15:06:29 -0500 (Fri, 14 Nov 2025) EndedAt: 2025-11-14 15:06:32 -0500 (Fri, 14 Nov 2025) EllapsedTime: 2.8 seconds RetCode: 0 Status: OK