Package: consensus Version: 1.29.0 Command: /Library/Frameworks/R.framework/Resources/bin/R CMD build --keep-empty-dirs --no-resave-data consensus StartedAt: 2025-11-14 15:58:34 -0500 (Fri, 14 Nov 2025) EndedAt: 2025-11-14 15:58:38 -0500 (Fri, 14 Nov 2025) EllapsedTime: 4.0 seconds RetCode: 0 Status: OK PackageFile: consensus_1.29.0.tar.gz PackageFileSize: 971 KiB