Package: consensus Version: 1.29.0 Command: rm -rf consensus.buildbin-libdir && mkdir consensus.buildbin-libdir && /Users/biocbuild/BBS/utils/build-universal.sh consensus_1.29.0.tar.gz /Library/Frameworks/R.framework/Resources/bin/R consensus.buildbin-libdir StartedAt: 2025-11-14 23:28:00 -0500 (Fri, 14 Nov 2025) EndedAt: 2025-11-14 23:28:02 -0500 (Fri, 14 Nov 2025) EllapsedTime: 2.0 seconds RetCode: 0 Status: OK PackageFile: consensus_1.29.0.tgz PackageFileSize: 1.098 MiB