Package: condiments Version: 1.19.0 Command: /home/biocbuild/bbs-3.23-bioc/R/bin/R CMD INSTALL condiments StartedAt: 2025-11-13 15:57:15 -0500 (Thu, 13 Nov 2025) EndedAt: 2025-11-13 15:57:49 -0500 (Thu, 13 Nov 2025) EllapsedTime: 34.5 seconds RetCode: 0 Status: OK