Package: condiments Version: 1.19.0 Command: /home/biocbuild/bbs-3.23-bioc/R/bin/R CMD build --keep-empty-dirs --no-resave-data condiments StartedAt: 2025-11-11 17:00:00 -0500 (Tue, 11 Nov 2025) EndedAt: 2025-11-11 17:03:12 -0500 (Tue, 11 Nov 2025) EllapsedTime: 191.2 seconds RetCode: 0 Status: OK PackageFile: condiments_1.19.0.tar.gz PackageFileSize: 1.999 MiB