Package: condiments Version: 1.19.0 Command: /Library/Frameworks/R.framework/Resources/bin/R CMD INSTALL condiments StartedAt: 2025-11-13 15:33:09 -0500 (Thu, 13 Nov 2025) EndedAt: 2025-11-13 15:33:24 -0500 (Thu, 13 Nov 2025) EllapsedTime: 14.5 seconds RetCode: 0 Status: OK