Package: condiments Version: 1.19.0 Command: /Library/Frameworks/R.framework/Resources/bin/R CMD build --keep-empty-dirs --no-resave-data condiments StartedAt: 2025-11-12 16:02:20 -0500 (Wed, 12 Nov 2025) EndedAt: 2025-11-12 16:03:40 -0500 (Wed, 12 Nov 2025) EllapsedTime: 79.9 seconds RetCode: 0 Status: OK PackageFile: condiments_1.19.0.tar.gz PackageFileSize: 2.251 MiB