Package: concordexR Version: 1.11.0 Command: rm -rf concordexR.buildbin-libdir && mkdir concordexR.buildbin-libdir && /Users/biocbuild/BBS/utils/build-universal.sh concordexR_1.11.0.tar.gz /Library/Frameworks/R.framework/Resources/bin/R concordexR.buildbin-libdir StartedAt: 2025-11-13 23:32:55 -0500 (Thu, 13 Nov 2025) EndedAt: 2025-11-13 23:33:07 -0500 (Thu, 13 Nov 2025) EllapsedTime: 12.2 seconds RetCode: 0 Status: OK PackageFile: concordexR_1.11.0.tgz PackageFileSize: 1.573 MiB