Package: compcodeR Version: 1.47.0 Command: /home/biocbuild/bbs-3.23-bioc/R/bin/R CMD check --install=check:compcodeR.install-out.txt --library=/home/biocbuild/bbs-3.23-bioc/R/site-library --timings compcodeR_1.47.0.tar.gz StartedAt: 2025-11-13 22:16:47 -0500 (Thu, 13 Nov 2025) EndedAt: 2025-11-13 22:21:54 -0500 (Thu, 13 Nov 2025) EllapsedTime: 307.4 seconds RetCode: 1 Status: ERROR CheckDir: compcodeR.Rcheck Warnings: NA