Package: compcodeR Version: 1.47.0 Command: /Library/Frameworks/R.framework/Resources/bin/R CMD INSTALL compcodeR StartedAt: 2025-11-14 15:05:15 -0500 (Fri, 14 Nov 2025) EndedAt: 2025-11-14 15:05:31 -0500 (Fri, 14 Nov 2025) EllapsedTime: 16.7 seconds RetCode: 0 Status: OK