Package: compcodeR Version: 1.47.0 Command: /Library/Frameworks/R.framework/Resources/bin/R CMD check --install=check:compcodeR.install-out.txt --library=/Library/Frameworks/R.framework/Resources/library --no-vignettes --timings compcodeR_1.47.0.tar.gz StartedAt: 2025-11-13 19:12:56 -0500 (Thu, 13 Nov 2025) EndedAt: 2025-11-13 19:16:32 -0500 (Thu, 13 Nov 2025) EllapsedTime: 215.7 seconds RetCode: 0 Status: OK CheckDir: compcodeR.Rcheck Warnings: 0