Package: compSPOT Version: 1.9.0 Command: /home/biocbuild/bbs-3.23-bioc/R/bin/R CMD INSTALL compSPOT StartedAt: 2025-11-13 15:09:37 -0500 (Thu, 13 Nov 2025) EndedAt: 2025-11-13 15:09:50 -0500 (Thu, 13 Nov 2025) EllapsedTime: 13.0 seconds RetCode: 0 Status: OK