Package: compSPOT Version: 1.9.0 Command: /home/biocbuild/bbs-3.23-bioc/R/bin/R CMD check --install=check:compSPOT.install-out.txt --library=/home/biocbuild/bbs-3.23-bioc/R/site-library --timings compSPOT_1.9.0.tar.gz StartedAt: 2025-11-14 22:16:57 -0500 (Fri, 14 Nov 2025) EndedAt: 2025-11-14 22:20:21 -0500 (Fri, 14 Nov 2025) EllapsedTime: 203.2 seconds RetCode: 0 Status: OK CheckDir: compSPOT.Rcheck Warnings: 0