Package: compSPOT Version: 1.9.0 Command: /Library/Frameworks/R.framework/Resources/bin/R CMD check --install=check:compSPOT.install-out.txt --library=/Library/Frameworks/R.framework/Resources/library --no-vignettes --timings compSPOT_1.9.0.tar.gz StartedAt: 2025-11-14 19:10:15 -0500 (Fri, 14 Nov 2025) EndedAt: 2025-11-14 19:11:48 -0500 (Fri, 14 Nov 2025) EllapsedTime: 92.1 seconds RetCode: 0 Status: OK CheckDir: compSPOT.Rcheck Warnings: 0