Package: compSPOT Version: 1.9.0 Command: /Library/Frameworks/R.framework/Resources/bin/R CMD build --keep-empty-dirs --no-resave-data compSPOT StartedAt: 2025-11-12 16:02:15 -0500 (Wed, 12 Nov 2025) EndedAt: 2025-11-12 16:02:25 -0500 (Wed, 12 Nov 2025) EllapsedTime: 10.1 seconds RetCode: 0 Status: OK PackageFile: compSPOT_1.9.0.tar.gz PackageFileSize: 436.5 KiB