Package: compEpiTools Version: 1.45.0 Command: /home/biocbuild/bbs-3.23-bioc/R/bin/R CMD INSTALL compEpiTools StartedAt: 2025-11-13 15:49:17 -0500 (Thu, 13 Nov 2025) EndedAt: 2025-11-13 15:50:17 -0500 (Thu, 13 Nov 2025) EllapsedTime: 59.1 seconds RetCode: 0 Status: OK