Package: compEpiTools Version: 1.45.0 Command: /home/biocbuild/bbs-3.23-bioc/R/bin/R CMD check --install=check:compEpiTools.install-out.txt --library=/home/biocbuild/bbs-3.23-bioc/R/site-library --timings compEpiTools_1.45.0.tar.gz StartedAt: 2025-11-13 22:17:32 -0500 (Thu, 13 Nov 2025) EndedAt: 2025-11-13 22:25:13 -0500 (Thu, 13 Nov 2025) EllapsedTime: 461.7 seconds RetCode: 0 Status: OK CheckDir: compEpiTools.Rcheck Warnings: 0