Package: compEpiTools Version: 1.45.0 Command: /home/biocbuild/bbs-3.23-bioc/R/bin/R CMD build --keep-empty-dirs --no-resave-data compEpiTools StartedAt: 2025-11-13 16:55:56 -0500 (Thu, 13 Nov 2025) EndedAt: 2025-11-13 16:57:24 -0500 (Thu, 13 Nov 2025) EllapsedTime: 88.1 seconds RetCode: 0 Status: OK PackageFile: compEpiTools_1.45.0.tar.gz PackageFileSize: 2.166 MiB