Package: compEpiTools Version: 1.45.0 Command: /Library/Frameworks/R.framework/Resources/bin/R CMD INSTALL compEpiTools StartedAt: 2025-11-13 15:27:23 -0500 (Thu, 13 Nov 2025) EndedAt: 2025-11-13 15:27:47 -0500 (Thu, 13 Nov 2025) EllapsedTime: 23.7 seconds RetCode: 0 Status: OK