Package: compEpiTools Version: 1.45.0 Command: /Library/Frameworks/R.framework/Resources/bin/R CMD check --install=check:compEpiTools.install-out.txt --library=/Library/Frameworks/R.framework/Resources/library --no-vignettes --timings compEpiTools_1.45.0.tar.gz StartedAt: 2025-11-13 19:12:58 -0500 (Thu, 13 Nov 2025) EndedAt: 2025-11-13 19:16:13 -0500 (Thu, 13 Nov 2025) EllapsedTime: 195.5 seconds RetCode: 0 Status: OK CheckDir: compEpiTools.Rcheck Warnings: 0