Package: compEpiTools Version: 1.45.0 Command: rm -rf compEpiTools.buildbin-libdir && mkdir compEpiTools.buildbin-libdir && /Users/biocbuild/BBS/utils/build-universal.sh compEpiTools_1.45.0.tar.gz /Library/Frameworks/R.framework/Resources/bin/R compEpiTools.buildbin-libdir StartedAt: 2025-11-13 23:32:50 -0500 (Thu, 13 Nov 2025) EndedAt: 2025-11-13 23:33:19 -0500 (Thu, 13 Nov 2025) EllapsedTime: 28.6 seconds RetCode: 0 Status: OK PackageFile: compEpiTools_1.45.0.tgz PackageFileSize: 2.348 MiB