Package: combi Version: 1.23.0 Command: /home/biocbuild/bbs-3.23-bioc/R/bin/R CMD INSTALL combi StartedAt: 2025-11-14 15:50:59 -0500 (Fri, 14 Nov 2025) EndedAt: 2025-11-14 15:51:32 -0500 (Fri, 14 Nov 2025) EllapsedTime: 33.4 seconds RetCode: 0 Status: OK