Package: combi Version: 1.23.0 Command: /Library/Frameworks/R.framework/Resources/bin/R CMD INSTALL combi StartedAt: 2025-11-14 15:25:59 -0500 (Fri, 14 Nov 2025) EndedAt: 2025-11-14 15:26:13 -0500 (Fri, 14 Nov 2025) EllapsedTime: 13.7 seconds RetCode: 0 Status: OK