Package: combi Version: 1.23.0 Maintainer: Stijn Hawinkel MaintainerEmail: stijn.hawinkel at psb.ugent.be git_url: https://git.bioconductor.org/packages/combi git_branch: devel git_last_commit: 29ef8d9 git_last_commit_date: 2025-10-29 10:57:46 -0500 (Wed, 29 Oct 2025)