Package: comapr Version: 1.15.0 Command: /home/biocbuild/bbs-3.23-bioc/R/bin/R CMD INSTALL comapr StartedAt: 2025-11-13 15:47:51 -0500 (Thu, 13 Nov 2025) EndedAt: 2025-11-13 15:48:44 -0500 (Thu, 13 Nov 2025) EllapsedTime: 53.2 seconds RetCode: 0 Status: OK