Package: comapr Version: 1.15.0 Command: /Library/Frameworks/R.framework/Resources/bin/R CMD INSTALL comapr StartedAt: 2025-11-12 15:43:28 -0500 (Wed, 12 Nov 2025) EndedAt: 2025-11-12 15:43:48 -0500 (Wed, 12 Nov 2025) EllapsedTime: 20.8 seconds RetCode: 0 Status: OK