Package: comapr Version: 1.15.0 Command: /Library/Frameworks/R.framework/Resources/bin/R CMD build --keep-empty-dirs --no-resave-data comapr StartedAt: 2025-11-12 16:01:50 -0500 (Wed, 12 Nov 2025) EndedAt: 2025-11-12 16:02:27 -0500 (Wed, 12 Nov 2025) EllapsedTime: 36.4 seconds RetCode: 0 Status: OK PackageFile: comapr_1.15.0.tar.gz PackageFileSize: 981 KiB