Package: comapr Version: 1.15.0 Command: rm -rf comapr.buildbin-libdir && mkdir comapr.buildbin-libdir && /Users/biocbuild/BBS/utils/build-universal.sh comapr_1.15.0.tar.gz /Library/Frameworks/R.framework/Resources/bin/R comapr.buildbin-libdir StartedAt: 2025-11-12 20:54:40 -0500 (Wed, 12 Nov 2025) EndedAt: 2025-11-12 20:55:05 -0500 (Wed, 12 Nov 2025) EllapsedTime: 24.5 seconds RetCode: 0 Status: OK PackageFile: comapr_1.15.0.tgz PackageFileSize: 1.089 MiB