Package: comapr Version: 1.15.0 Maintainer: Ruqian Lyu MaintainerEmail: xiaoru.best at gmail.com git_url: https://git.bioconductor.org/packages/comapr git_branch: devel git_last_commit: 50b0041 git_last_commit_date: 2025-10-29 11:14:26 -0500 (Wed, 29 Oct 2025)