Package: cogena Version: 1.45.0 Command: /home/biocbuild/bbs-3.23-bioc/R/bin/R CMD INSTALL cogena StartedAt: 2025-11-14 15:14:48 -0500 (Fri, 14 Nov 2025) EndedAt: 2025-11-14 15:15:03 -0500 (Fri, 14 Nov 2025) EllapsedTime: 14.7 seconds RetCode: 0 Status: OK