Package: cogena Version: 1.45.0 Command: /home/biocbuild/bbs-3.23-bioc/R/bin/R CMD build --keep-empty-dirs --no-resave-data cogena StartedAt: 2025-11-14 16:54:51 -0500 (Fri, 14 Nov 2025) EndedAt: 2025-11-14 16:57:29 -0500 (Fri, 14 Nov 2025) EllapsedTime: 158.2 seconds RetCode: 0 Status: OK PackageFile: cogena_1.45.0.tar.gz PackageFileSize: 7.332 MiB