Package: cogena Version: 1.45.0 Maintainer: Zhilong Jia MaintainerEmail: zhilongjia at gmail.com git_url: https://git.bioconductor.org/packages/cogena git_branch: devel git_last_commit: db4e1a0 git_last_commit_date: 2025-10-29 10:25:23 -0500 (Wed, 29 Oct 2025)