Package: codelink Version: 1.79.0 Command: /home/biocbuild/bbs-3.23-bioc/R/bin/R CMD INSTALL codelink StartedAt: 2025-11-13 15:31:43 -0500 (Thu, 13 Nov 2025) EndedAt: 2025-11-13 15:32:00 -0500 (Thu, 13 Nov 2025) EllapsedTime: 16.9 seconds RetCode: 0 Status: OK