Package: codelink Version: 1.79.0 Command: /home/biocbuild/bbs-3.23-bioc/R/bin/R CMD build --keep-empty-dirs --no-resave-data codelink StartedAt: 2025-11-13 16:53:56 -0500 (Thu, 13 Nov 2025) EndedAt: 2025-11-13 16:54:28 -0500 (Thu, 13 Nov 2025) EllapsedTime: 32.0 seconds RetCode: 0 Status: OK PackageFile: codelink_1.79.0.tar.gz PackageFileSize: 3.182 MiB