Package: codelink Version: 1.79.0 Command: /Library/Frameworks/R.framework/Resources/bin/R CMD INSTALL codelink StartedAt: 2025-11-14 15:10:30 -0500 (Fri, 14 Nov 2025) EndedAt: 2025-11-14 15:10:38 -0500 (Fri, 14 Nov 2025) EllapsedTime: 7.7 seconds RetCode: 0 Status: OK