Package: codelink Version: 1.79.0 Command: /Library/Frameworks/R.framework/Resources/bin/R CMD build --keep-empty-dirs --no-resave-data codelink StartedAt: 2025-11-13 16:00:16 -0500 (Thu, 13 Nov 2025) EndedAt: 2025-11-13 16:00:32 -0500 (Thu, 13 Nov 2025) EllapsedTime: 15.2 seconds RetCode: 0 Status: OK PackageFile: codelink_1.79.0.tar.gz PackageFileSize: 3.182 MiB