Package: codelink Version: 1.79.0 Command: rm -rf codelink.buildbin-libdir && mkdir codelink.buildbin-libdir && /Users/biocbuild/BBS/utils/build-universal.sh codelink_1.79.0.tar.gz /Library/Frameworks/R.framework/Resources/bin/R codelink.buildbin-libdir StartedAt: 2025-11-14 23:27:37 -0500 (Fri, 14 Nov 2025) EndedAt: 2025-11-14 23:27:45 -0500 (Fri, 14 Nov 2025) EllapsedTime: 8.2 seconds RetCode: 0 Status: OK PackageFile: codelink_1.79.0.tgz PackageFileSize: 3.573 MiB