Package: codelink Version: 1.79.0 Maintainer: Diego Diez MaintainerEmail: diego10ruiz at gmail.com git_url: https://git.bioconductor.org/packages/codelink git_branch: devel git_last_commit: 28ca5f2 git_last_commit_date: 2025-10-29 09:57:29 -0500 (Wed, 29 Oct 2025)