Package: coMethDMR Version: 1.15.0 Command: /Library/Frameworks/R.framework/Resources/bin/R CMD INSTALL coMethDMR StartedAt: 2025-11-14 15:23:46 -0500 (Fri, 14 Nov 2025) EndedAt: 2025-11-14 15:24:06 -0500 (Fri, 14 Nov 2025) EllapsedTime: 20.5 seconds RetCode: 0 Status: OK