Package: coMethDMR Version: 1.15.0 Command: rm -rf coMethDMR.buildbin-libdir && mkdir coMethDMR.buildbin-libdir && /Users/biocbuild/BBS/utils/build-universal.sh coMethDMR_1.15.0.tar.gz /Library/Frameworks/R.framework/Resources/bin/R coMethDMR.buildbin-libdir StartedAt: 2025-11-14 23:27:48 -0500 (Fri, 14 Nov 2025) EndedAt: 2025-11-14 23:28:11 -0500 (Fri, 14 Nov 2025) EllapsedTime: 22.7 seconds RetCode: 0 Status: OK PackageFile: coMethDMR_1.15.0.tgz PackageFileSize: 3.176 MiB